BEGIN:VCALENDAR
VERSION:2.0
PRODID:-//eventon.com NONSGML v1.0//EN
CALSCALE:GREGORIAN
METHOD:PUBLISH
BEGIN:VEVENT
UID:69e890438eab3
DTSTAMP:20260422T090923Z
DTSTART:20221028T030000Z
DTEND:20221028T090000Z
LOCATION:Perth BBQ School 195 Guildford Rd\,  Maylands WA 6051
SUMMARY:Charcoal Fundamentals October 28th 2022
DESCRIPTION:This class was born out of our Weber Kettle Basics\,  our very 
 first class.  The class is aimed at introducing people to the world of cha
 rcoal and wood fuelled barbecue as well as expanding the skillset of those 
 already on their journey. We use the iconic Weber Kettle as well[..]\nhttps
 ://perthbbqschool.com/events/charcoal-fundamentals-october-28th-2022/
URL:https://perthbbqschool.com/events/charcoal-fundamentals-october-28th-2022/
END:VEVENT
END:VCALENDAR