BEGIN:VCALENDAR
VERSION:2.0
PRODID:-//eventon.com NONSGML v1.0//EN
CALSCALE:GREGORIAN
METHOD:PUBLISH
BEGIN:VEVENT
UID:69e606cd9ecc5
DTSTAMP:20260420T105821Z
DTSTART:20220923T093000Z
DTEND:20220923T133000Z
LOCATION:Perth BBQ School 195 Guildford Rd\,  Maylands WA 6051
SUMMARY:Seafood Masterclass September 23rd PM
DESCRIPTION:We will take you through a few of the wonderful things you can 
 do with seafood on the barbecue. The menu is subject to change based on ava
 ilability but is currently: Skull Island Prawns Smoked Octopus Grilled Marr
 on Hot Smoked Salmon Glacier 51 Toothfish Whole snapper &nbsp; &nbsp; We wi
 ll[..]\nhttps://perthbbqschool.com/events/seafood-masterclass-september-23-
 pm/
URL:https://perthbbqschool.com/events/seafood-masterclass-september-23-pm/
END:VEVENT
END:VCALENDAR