BEGIN:VCALENDAR
VERSION:2.0
PRODID:-//eventon.com NONSGML v1.0//EN
CALSCALE:GREGORIAN
METHOD:PUBLISH
BEGIN:VEVENT
UID:69e9e2e30ead1
DTSTAMP:20260423T091411Z
DTSTART:20221209T093000Z
DTEND:20221209T130000Z
LOCATION:Perth BBQ School 195 Guildford Rd\,  Maylands WA 6051
SUMMARY:Christmas Masterclass PM Session
DESCRIPTION:Christmas on the Weber growing up is 100% what sparked the very
  first interest in getting my own Weber kettle.  Last Christmas I saw so m
 any people announcing they were cooking brisket for the first time through 
 the night for Christmas Day lunch and all sorts of other craziness &#8211;[
 ..]\nhttps://perthbbqschool.com/events/christmas-masterclass-pm-session-3/
URL:https://perthbbqschool.com/events/christmas-masterclass-pm-session-3/
END:VEVENT
END:VCALENDAR