BEGIN:VCALENDAR
VERSION:2.0
PRODID:-//eventon.com NONSGML v1.0//EN
CALSCALE:GREGORIAN
METHOD:PUBLISH
BEGIN:VEVENT
UID:69e767d42628a
DTSTAMP:20260421T120436Z
DTSTART:20230310T093000Z
DTEND:20230310T133000Z
LOCATION:Perth BBQ School 195 Guildford Rd\,  Maylands WA 6051
SUMMARY:Seafood Masterclass March 10th PM
DESCRIPTION:We will take you through a few of the wonderful things you can 
 do with seafood on the barbecue. The menu is subject to change based on ava
 ilability but is currently: Skull Island Prawns Smoked Octopus Grilled Marr
 on Hot Smoked Salmon Glacier 51 Toothfish Whole snapper &nbsp; &nbsp; We wi
 ll[..]\nhttps://perthbbqschool.com/events/seafood-masterclass-march-10th-pm
 /
URL:https://perthbbqschool.com/events/seafood-masterclass-march-10th-pm/
END:VEVENT
END:VCALENDAR