BEGIN:VCALENDAR
VERSION:2.0
PRODID:-//eventon.com NONSGML v1.0//EN
CALSCALE:GREGORIAN
METHOD:PUBLISH
BEGIN:VEVENT
UID:69e8c081e1a3a
DTSTAMP:20260422T123513Z
DTSTART:20230930T030000Z
DTEND:20230930T090000Z
LOCATION:Perth BBQ School 195 Guildford Rd\,  Maylands WA 6051
SUMMARY:Charcoal Fundamentals September 30th 2023
DESCRIPTION:This class was born out of our Weber Kettle Basics\,  our very 
 first class.&nbsp; The class is aimed at introducing people to the world of
  charcoal and wood fuelled barbecue as well as expanding the skillset of th
 ose already on their journey. We use the iconic Weber Kettle as well[..]\nh
 ttps://perthbbqschool.com/events/charcoal-fundamentals-september-30th-2023/
URL:https://perthbbqschool.com/events/charcoal-fundamentals-september-30th-2023/
END:VEVENT
END:VCALENDAR