BEGIN:VCALENDAR
VERSION:2.0
PRODID:-//eventon.com NONSGML v1.0//EN
CALSCALE:GREGORIAN
METHOD:PUBLISH
BEGIN:VEVENT
UID:69e89121aab19
DTSTAMP:20260422T091305Z
DTSTART:20230714T093000Z
DTEND:20230714T130000Z
LOCATION:Perth BBQ School 195 Guildford Rd\,  Maylands WA 6051
SUMMARY:Christmas Masterclass 14 July 2023
DESCRIPTION:Christmas on the Weber growing up is 100% what sparked the very
  first interest in getting my own Weber kettle.&nbsp; Last Christmas I saw 
 so many people announcing they were cooking brisket for the first time thro
 ugh the night for Christmas Day lunch and all sorts of other craziness &#82
 11;[..]\nhttps://perthbbqschool.com/events/christmas-masterclass-14-july-20
 23/
URL:https://perthbbqschool.com/events/christmas-masterclass-14-july-2023/
END:VEVENT
END:VCALENDAR