BEGIN:VCALENDAR
VERSION:2.0
PRODID:-//eventon.com NONSGML v1.0//EN
CALSCALE:GREGORIAN
METHOD:PUBLISH
BEGIN:VEVENT
UID:69e743cfae902
DTSTAMP:20260421T093055Z
DTSTART:20250712T030000Z
DTEND:20250712T090000Z
LOCATION:Perth BBQ School 195 Guildford Rd\,  Maylands WA 6051
SUMMARY:Charcoal & Smoking Fundamentals July 12th 2025
DESCRIPTION:This class was born out of our Weber Kettle Basics\,  our very 
 first class.  The class is aimed at introducing people to the world of smo
 ked meats\,  charcoal and wood fuelled barbecue as well as expanding the sk
 illset of those already on their journey. We use the iconic Weber Kettle[..
 ]\nhttps://perthbbqschool.com/events/charcoal-smoking-fundamentals-july-12t
 h-2025/
URL:https://perthbbqschool.com/events/charcoal-smoking-fundamentals-july-12th-2025/
END:VEVENT
END:VCALENDAR