BEGIN:VCALENDAR
VERSION:2.0
PRODID:-//eventon.com NONSGML v1.0//EN
CALSCALE:GREGORIAN
METHOD:PUBLISH
BEGIN:VEVENT
UID:69e9e39ff3169
DTSTAMP:20260423T091719Z
DTSTART:20260207T030000Z
DTEND:20260207T090000Z
LOCATION:Perth BBQ School 195 Guildford Rd\,  Maylands WA 6051
SUMMARY:Charcoal & Smoking Fundamentals February 7th 2026
DESCRIPTION:This class was born out of our Weber Kettle Basics\,  our very 
 first class.  The class is aimed at introducing people to the world of smo
 ked meats\,  charcoal and wood fuelled barbecue as well as expanding the sk
 illset of those already on their journey. We use the iconic Weber Kettle[..
 ]\nhttps://perthbbqschool.com/events/charcoal-smoking-fundamentals-february
 -7th-2026/
URL:https://perthbbqschool.com/events/charcoal-smoking-fundamentals-february-7th-2026/
END:VEVENT
END:VCALENDAR